BEGIN:VCALENDAR
VERSION:2.0
PRODID:-//Landesverband Thüringen - ECPv6.9.0//NONSGML v1.0//EN
CALSCALE:GREGORIAN
METHOD:PUBLISH
X-ORIGINAL-URL:https://www.buendnis-thueringen.de
X-WR-CALDESC:Veranstaltungen für Landesverband Thüringen
REFRESH-INTERVAL;VALUE=DURATION:PT1H
X-Robots-Tag:noindex
X-PUBLISHED-TTL:PT1H
BEGIN:VTIMEZONE
TZID:Europe/Helsinki
BEGIN:DAYLIGHT
TZOFFSETFROM:+0200
TZOFFSETTO:+0300
TZNAME:EEST
DTSTART:20240331T010000
END:DAYLIGHT
BEGIN:STANDARD
TZOFFSETFROM:+0300
TZOFFSETTO:+0200
TZNAME:EET
DTSTART:20241027T010000
END:STANDARD
END:VTIMEZONE
BEGIN:VEVENT
DTSTART;TZID=Europe/Helsinki:20240830T100000
DTEND;TZID=Europe/Helsinki:20240909T150000
DTSTAMP:20260421T023432
CREATED:20240820T175254Z
LAST-MODIFIED:20240820T175439Z
UID:2290-1725012000-1725894000@www.buendnis-thueringen.de
SUMMARY:Infostand in Gotha
DESCRIPTION:
URL:https://www.buendnis-thueringen.de/event/infostand-gotha/
LOCATION:Gotha\, Untere Hauptmarkt
ORGANIZER;CN="B%C3%BCndnis Deutschland":MAILTO:Holm.Guenther@buendnis-deutschland.de
END:VEVENT
BEGIN:VEVENT
DTSTART;TZID=Europe/Helsinki:20240831T090000
DTEND;TZID=Europe/Helsinki:20240831T130000
DTSTAMP:20260421T023432
CREATED:20240820T174947Z
LAST-MODIFIED:20240820T175138Z
UID:2281-1725094800-1725109200@www.buendnis-thueringen.de
SUMMARY:Infostand in Altenburg
DESCRIPTION:
URL:https://www.buendnis-thueringen.de/event/infostand-in-altenburg/
LOCATION:Altenburg Markt
ORGANIZER;CN="B%C3%BCndnis Deutschland":MAILTO:Holm.Guenther@buendnis-deutschland.de
END:VEVENT
BEGIN:VEVENT
DTSTART;TZID=Europe/Helsinki:20240831T100000
DTEND;TZID=Europe/Helsinki:20240831T150000
DTSTAMP:20260421T023432
CREATED:20240820T175118Z
LAST-MODIFIED:20240820T175357Z
UID:2283-1725098400-1725116400@www.buendnis-thueringen.de
SUMMARY:Infostand in Gera
DESCRIPTION:
URL:https://www.buendnis-thueringen.de/event/infostand-gera/
LOCATION:Gera\, Sorge/Ecke Schloßstraße
ORGANIZER;CN="B%C3%BCndnis Deutschland":MAILTO:Holm.Guenther@buendnis-deutschland.de
END:VEVENT
BEGIN:VEVENT
DTSTART;TZID=Europe/Helsinki:20240831T100000
DTEND;TZID=Europe/Helsinki:20240831T150000
DTSTAMP:20260421T023432
CREATED:20240820T175218Z
LAST-MODIFIED:20240820T175404Z
UID:2287-1725098400-1725116400@www.buendnis-thueringen.de
SUMMARY:Infostand in Erfurt
DESCRIPTION:
URL:https://www.buendnis-thueringen.de/event/infostand-erfurt/
LOCATION:Erfurt\, Anger
ORGANIZER;CN="B%C3%BCndnis Deutschland":MAILTO:Holm.Guenther@buendnis-deutschland.de
END:VEVENT
END:VCALENDAR