BEGIN:VCALENDAR
VERSION:2.0
PRODID:-//Landesverband Thüringen - ECPv6.9.0//NONSGML v1.0//EN
CALSCALE:GREGORIAN
METHOD:PUBLISH
X-ORIGINAL-URL:https://www.buendnis-thueringen.de
X-WR-CALDESC:Veranstaltungen für Landesverband Thüringen
REFRESH-INTERVAL;VALUE=DURATION:PT1H
X-Robots-Tag:noindex
X-PUBLISHED-TTL:PT1H
BEGIN:VTIMEZONE
TZID:Europe/Helsinki
BEGIN:DAYLIGHT
TZOFFSETFROM:+0200
TZOFFSETTO:+0300
TZNAME:EEST
DTSTART:20240331T010000
END:DAYLIGHT
BEGIN:STANDARD
TZOFFSETFROM:+0300
TZOFFSETTO:+0200
TZNAME:EET
DTSTART:20241027T010000
END:STANDARD
END:VTIMEZONE
BEGIN:VEVENT
DTSTART;TZID=Europe/Helsinki:20240829T100000
DTEND;TZID=Europe/Helsinki:20240829T150000
DTSTAMP:20260421T023537
CREATED:20240820T175341Z
LAST-MODIFIED:20240820T175341Z
UID:2293-1724925600-1724943600@www.buendnis-thueringen.de
SUMMARY:Infostand in Jena
DESCRIPTION:
URL:https://www.buendnis-thueringen.de/event/infostand-in-jena/
LOCATION:Jena\, Löbderstraße vor C&A
ORGANIZER;CN="B%C3%BCndnis Deutschland":MAILTO:Holm.Guenther@buendnis-deutschland.de
END:VEVENT
END:VCALENDAR